BEGIN:VCALENDAR
VERSION:2.0
PRODID:-//St Sulpice-sur-Lèze - ECPv6.15.18//NONSGML v1.0//EN
CALSCALE:GREGORIAN
METHOD:PUBLISH
X-WR-CALNAME:St Sulpice-sur-Lèze
X-ORIGINAL-URL:https://www.stsulpicesurleze.fr
X-WR-CALDESC:Évènements pour St Sulpice-sur-Lèze
REFRESH-INTERVAL;VALUE=DURATION:PT1H
X-Robots-Tag:noindex
X-PUBLISHED-TTL:PT1H
BEGIN:VTIMEZONE
TZID:Europe/Paris
BEGIN:DAYLIGHT
TZOFFSETFROM:+0100
TZOFFSETTO:+0200
TZNAME:CEST
DTSTART:20220327T010000
END:DAYLIGHT
BEGIN:STANDARD
TZOFFSETFROM:+0200
TZOFFSETTO:+0100
TZNAME:CET
DTSTART:20221030T010000
END:STANDARD
BEGIN:DAYLIGHT
TZOFFSETFROM:+0100
TZOFFSETTO:+0200
TZNAME:CEST
DTSTART:20230326T010000
END:DAYLIGHT
BEGIN:STANDARD
TZOFFSETFROM:+0200
TZOFFSETTO:+0100
TZNAME:CET
DTSTART:20231029T010000
END:STANDARD
BEGIN:DAYLIGHT
TZOFFSETFROM:+0100
TZOFFSETTO:+0200
TZNAME:CEST
DTSTART:20240331T010000
END:DAYLIGHT
BEGIN:STANDARD
TZOFFSETFROM:+0200
TZOFFSETTO:+0100
TZNAME:CET
DTSTART:20241027T010000
END:STANDARD
END:VTIMEZONE
BEGIN:VEVENT
DTSTART;TZID=Europe/Paris:20231018T163000
DTEND;TZID=Europe/Paris:20231018T173000
DTSTAMP:20260424T035602
CREATED:20230928T134657Z
LAST-MODIFIED:20230928T134657Z
UID:10191-1697646600-1697650200@www.stsulpicesurleze.fr
SUMMARY:HEURE DU CONTE : Il était une fois au pays des sorcières
DESCRIPTION:À l’occasion de notre exposition À l’école des sorcières\, les conteurs d’Auterive sont de retour avec de nouvelles histoires ensorcelantes ! \n-> Mercredi 18 octobre à 16h30\n-> Dès 5 ans\n-> Gratuit / Sur réservation au 05 61 97 59 14 ou à mediatheque@stsulpicesurleze.fr
URL:https://www.stsulpicesurleze.fr/agenda/heure-du-conte-il-etait-une-fois-au-pays-des-sorcieres/
LOCATION:Médiathèque\, Espl. André Maurette\, Saint-Sulpice-sur-Lèze\, 31410\, France
ATTACH;FMTTYPE=image/jpeg:https://www.stsulpicesurleze.fr/wp-content/uploads/2023/09/MED-Declinaison-agenda-Heure-du-conte-au-pays-des-sorcieres-2023-10-18.jpg
END:VEVENT
END:VCALENDAR