BEGIN:VCALENDAR
VERSION:2.0
PRODID:-//St Sulpice-sur-Lèze - ECPv6.15.18//NONSGML v1.0//EN
CALSCALE:GREGORIAN
METHOD:PUBLISH
X-WR-CALNAME:St Sulpice-sur-Lèze
X-ORIGINAL-URL:https://www.stsulpicesurleze.fr
X-WR-CALDESC:Évènements pour St Sulpice-sur-Lèze
REFRESH-INTERVAL;VALUE=DURATION:PT1H
X-Robots-Tag:noindex
X-PUBLISHED-TTL:PT1H
BEGIN:VTIMEZONE
TZID:Europe/Paris
BEGIN:DAYLIGHT
TZOFFSETFROM:+0100
TZOFFSETTO:+0200
TZNAME:CEST
DTSTART:20220327T010000
END:DAYLIGHT
BEGIN:STANDARD
TZOFFSETFROM:+0200
TZOFFSETTO:+0100
TZNAME:CET
DTSTART:20221030T010000
END:STANDARD
BEGIN:DAYLIGHT
TZOFFSETFROM:+0100
TZOFFSETTO:+0200
TZNAME:CEST
DTSTART:20230326T010000
END:DAYLIGHT
BEGIN:STANDARD
TZOFFSETFROM:+0200
TZOFFSETTO:+0100
TZNAME:CET
DTSTART:20231029T010000
END:STANDARD
BEGIN:DAYLIGHT
TZOFFSETFROM:+0100
TZOFFSETTO:+0200
TZNAME:CEST
DTSTART:20240331T010000
END:DAYLIGHT
BEGIN:STANDARD
TZOFFSETFROM:+0200
TZOFFSETTO:+0100
TZNAME:CET
DTSTART:20241027T010000
END:STANDARD
END:VTIMEZONE
BEGIN:VEVENT
DTSTART;TZID=Europe/Paris:20231201T163000
DTEND;TZID=Europe/Paris:20231201T180000
DTSTAMP:20260424T132555
CREATED:20231019T091005Z
LAST-MODIFIED:20231019T091005Z
UID:10270-1701448200-1701453600@www.stsulpicesurleze.fr
SUMMARY:Venez jouer à la médiathèque !
DESCRIPTION:Mathieu de l’association Homo Ludens animera une séance de jeux de société le vendredi 1er décembre de 16h30 à 18h00. \nCette animation est gratuite et sans réservation\, de 6 à 106 ans !
URL:https://www.stsulpicesurleze.fr/agenda/venez-jouer-a-la-mediatheque-13/
LOCATION:Médiathèque\, Espl. André Maurette\, Saint-Sulpice-sur-Lèze\, 31410\, France
ATTACH;FMTTYPE=image/jpeg:https://www.stsulpicesurleze.fr/wp-content/uploads/2023/10/MED-Declinaison-PETR-Jeux-de-societe-2023-11-17.jpg
ORGANIZER;CN="M%C3%A9diath%C3%A8que de Saint-Sulpice-sur-L%C3%A8ze":MAILTO:mediatheque@stsulpicesurleze.fr
END:VEVENT
END:VCALENDAR