BEGIN:VCALENDAR
VERSION:2.0
PRODID:-//St Sulpice-sur-Lèze - ECPv6.15.18//NONSGML v1.0//EN
CALSCALE:GREGORIAN
METHOD:PUBLISH
X-WR-CALNAME:St Sulpice-sur-Lèze
X-ORIGINAL-URL:https://www.stsulpicesurleze.fr
X-WR-CALDESC:Évènements pour St Sulpice-sur-Lèze
REFRESH-INTERVAL;VALUE=DURATION:PT1H
X-Robots-Tag:noindex
X-PUBLISHED-TTL:PT1H
BEGIN:VTIMEZONE
TZID:Europe/Paris
BEGIN:DAYLIGHT
TZOFFSETFROM:+0100
TZOFFSETTO:+0200
TZNAME:CEST
DTSTART:20220327T010000
END:DAYLIGHT
BEGIN:STANDARD
TZOFFSETFROM:+0200
TZOFFSETTO:+0100
TZNAME:CET
DTSTART:20221030T010000
END:STANDARD
BEGIN:DAYLIGHT
TZOFFSETFROM:+0100
TZOFFSETTO:+0200
TZNAME:CEST
DTSTART:20230326T010000
END:DAYLIGHT
BEGIN:STANDARD
TZOFFSETFROM:+0200
TZOFFSETTO:+0100
TZNAME:CET
DTSTART:20231029T010000
END:STANDARD
BEGIN:DAYLIGHT
TZOFFSETFROM:+0100
TZOFFSETTO:+0200
TZNAME:CEST
DTSTART:20240331T010000
END:DAYLIGHT
BEGIN:STANDARD
TZOFFSETFROM:+0200
TZOFFSETTO:+0100
TZNAME:CET
DTSTART:20241027T010000
END:STANDARD
END:VTIMEZONE
BEGIN:VEVENT
DTSTART;TZID=Europe/Paris:20231209T163000
DTEND;TZID=Europe/Paris:20231209T164500
DTSTAMP:20260422T215054
CREATED:20231129T081838Z
LAST-MODIFIED:20231129T081838Z
UID:10438-1702139400-1702140300@www.stsulpicesurleze.fr
SUMMARY:Spectacle de Noël
DESCRIPTION:Samedi 09 décembre 2023\, la compagnie Amapola met la main à la pâte pour vous concocter un succulent spectacle de Noël ! \nDans « Croqu’Noël »\, nos deux cuisinières loufoques vont patouiller\, renverser\, tambouiller dans leur cuisine faite de bric et de broc pour réaliser un dessert unique au monde… Un spectacle musical et interactif\, qui mêle rebondissements comiques et instants oniriques ! \n-> samedi 09 décembre 2023 à 16h30\n-> tout public dès 3 ans\n-> durée : 45 min\n-> gratuit / sur réservation au 05 61 97 59 14 ou à mediatheque@stsulpicesurleze.fr
URL:https://www.stsulpicesurleze.fr/agenda/spectacle-de-noel-2/
LOCATION:Médiathèque\, Espl. André Maurette\, Saint-Sulpice-sur-Lèze\, 31410\, France
ATTACH;FMTTYPE=image/jpeg:https://www.stsulpicesurleze.fr/wp-content/uploads/2023/11/MED-Declinaison-agenda-Spectacle-de-Noel-2023-12-09-scaled.jpg
ORGANIZER;CN="M%C3%A9diath%C3%A8que de Saint-Sulpice-sur-L%C3%A8ze":MAILTO:mediatheque@stsulpicesurleze.fr
END:VEVENT
END:VCALENDAR