BEGIN:VCALENDAR
VERSION:2.0
PRODID:-//St Sulpice-sur-Lèze - ECPv6.15.18//NONSGML v1.0//EN
CALSCALE:GREGORIAN
METHOD:PUBLISH
X-ORIGINAL-URL:https://www.stsulpicesurleze.fr
X-WR-CALDESC:Évènements pour St Sulpice-sur-Lèze
REFRESH-INTERVAL;VALUE=DURATION:PT1H
X-Robots-Tag:noindex
X-PUBLISHED-TTL:PT1H
BEGIN:VTIMEZONE
TZID:Europe/Paris
BEGIN:DAYLIGHT
TZOFFSETFROM:+0100
TZOFFSETTO:+0200
TZNAME:CEST
DTSTART:20240331T010000
END:DAYLIGHT
BEGIN:STANDARD
TZOFFSETFROM:+0200
TZOFFSETTO:+0100
TZNAME:CET
DTSTART:20241027T010000
END:STANDARD
BEGIN:DAYLIGHT
TZOFFSETFROM:+0100
TZOFFSETTO:+0200
TZNAME:CEST
DTSTART:20250330T010000
END:DAYLIGHT
BEGIN:STANDARD
TZOFFSETFROM:+0200
TZOFFSETTO:+0100
TZNAME:CET
DTSTART:20251026T010000
END:STANDARD
BEGIN:DAYLIGHT
TZOFFSETFROM:+0100
TZOFFSETTO:+0200
TZNAME:CEST
DTSTART:20260329T010000
END:DAYLIGHT
BEGIN:STANDARD
TZOFFSETFROM:+0200
TZOFFSETTO:+0100
TZNAME:CET
DTSTART:20261025T010000
END:STANDARD
END:VTIMEZONE
BEGIN:VEVENT
DTSTART;TZID=Europe/Paris:20250517T110000
DTEND;TZID=Europe/Paris:20250517T113000
DTSTAMP:20260419T154323
CREATED:20250320T152331Z
LAST-MODIFIED:20250320T153634Z
UID:11971-1747479600-1747481400@www.stsulpicesurleze.fr
SUMMARY:Spectacle Pousse-Pousse
DESCRIPTION:Réservez vite vos places pour ce joli spectacle ! Une fable écologique nous apprend à prendre soin du vivant\, des autres et à faire pousser l’essentiel. \nC’est l’histoire du petit être Myoka\, qui comme les autres de son espèce\, les Ronge’tout\, ne fait pas très attention à ce qu’il y a autour de lui. Il cueille les fleurs parce que ça sent bon\, marche sur les petites bêtes parce que c’est rigolo\, et mange tout ce qu’il peut trouver à portée de main. Mais la nature fatigue… Pousse-Pousse\, avec un univers onirique\, une scénographie cocooning et immersive\, propose une prise de conscience du vivant\, une attention particulière aux choses qui nous entourent. Nous découvrons qu’avec des petites choses\, nous pouvons faire autrement ! Il n’y a pas de petites actions\, chacun et chacune peut créer un nouveau monde et agir à son échelle !  \nSamedi 17 mai 2025 à 11h00\nDurée : 30 min.\nPublic : de 2 à 6 ans\nPar la Cie MégaSuperThéâtre\nGratuit sur réservation au 05.61.97.59.14 ou par mail médiathèque@stsulpicesurleze.fr \nÉvénement organisé dans le cadre du parcours “À la découverte de la biodiversité”\, offert par la Médiathèque départementale de la Haute-Garonne que nous remercions chaleureusement
URL:https://www.stsulpicesurleze.fr/agenda/spectacle-pousse-pousse/
LOCATION:Médiathèque\, Espl. André Maurette\, Saint-Sulpice-sur-Lèze\, 31410\, France
ATTACH;FMTTYPE=image/jpeg:https://www.stsulpicesurleze.fr/wp-content/uploads/2025/03/MED-Affiche-web-Spectacle-Pousse-pousse-2025-05-17-scaled.jpg
ORGANIZER;CN="M%C3%A9diath%C3%A8que de Saint-Sulpice-sur-L%C3%A8ze":MAILTO:mediatheque@stsulpicesurleze.fr
END:VEVENT
END:VCALENDAR