BEGIN:VCALENDAR
VERSION:2.0
PRODID:-//St Sulpice-sur-Lèze - ECPv6.15.18//NONSGML v1.0//EN
CALSCALE:GREGORIAN
METHOD:PUBLISH
X-WR-CALNAME:St Sulpice-sur-Lèze
X-ORIGINAL-URL:https://www.stsulpicesurleze.fr
X-WR-CALDESC:Évènements pour St Sulpice-sur-Lèze
REFRESH-INTERVAL;VALUE=DURATION:PT1H
X-Robots-Tag:noindex
X-PUBLISHED-TTL:PT1H
BEGIN:VTIMEZONE
TZID:Europe/Paris
BEGIN:DAYLIGHT
TZOFFSETFROM:+0100
TZOFFSETTO:+0200
TZNAME:CEST
DTSTART:20240331T010000
END:DAYLIGHT
BEGIN:STANDARD
TZOFFSETFROM:+0200
TZOFFSETTO:+0100
TZNAME:CET
DTSTART:20241027T010000
END:STANDARD
BEGIN:DAYLIGHT
TZOFFSETFROM:+0100
TZOFFSETTO:+0200
TZNAME:CEST
DTSTART:20250330T010000
END:DAYLIGHT
BEGIN:STANDARD
TZOFFSETFROM:+0200
TZOFFSETTO:+0100
TZNAME:CET
DTSTART:20251026T010000
END:STANDARD
BEGIN:DAYLIGHT
TZOFFSETFROM:+0100
TZOFFSETTO:+0200
TZNAME:CEST
DTSTART:20260329T010000
END:DAYLIGHT
BEGIN:STANDARD
TZOFFSETFROM:+0200
TZOFFSETTO:+0100
TZNAME:CET
DTSTART:20261025T010000
END:STANDARD
END:VTIMEZONE
BEGIN:VEVENT
DTSTART;TZID=Europe/Paris:20250905T180000
DTEND;TZID=Europe/Paris:20250905T220000
DTSTAMP:20260420T121805
CREATED:20250811T064540Z
LAST-MODIFIED:20250804T145433Z
UID:12397-1757095200-1757109600@www.stsulpicesurleze.fr
SUMMARY:Forum des associations 2025
DESCRIPTION:Le Forum des associations se tiendra le vendredi 05 septembre 2025 dans le parc municipal François de Puybusque à Saint-Sulpice-sur-Lèze. \nIl débutera à partir de 18h00\, les inscriptions aux différentes associations seront ouvertes tout au long de la soirée et des animations et démonstrations vont se succéder. \nVous pourrez profiter d’un foodtrucks ainsi que de la buvette. \nAccès libre et gratuit à l’événement.
URL:https://www.stsulpicesurleze.fr/agenda/forum-des-associations-2025/
LOCATION:Parc Municipal François de Puybusque\, 7 route de la Méditerranée\, Saint-Sulpice-sur-Lèze\, 31410
ATTACH;FMTTYPE=image/jpeg:https://www.stsulpicesurleze.fr/wp-content/uploads/2025/07/MSL-Affiche-A4-Forum-des-associations-2025-09-05-scaled.jpg
END:VEVENT
BEGIN:VEVENT
DTSTART;TZID=Europe/Paris:20250913T100000
DTEND;TZID=Europe/Paris:20250913T120000
DTSTAMP:20260420T121805
CREATED:20250724T130550Z
LAST-MODIFIED:20250724T130550Z
UID:12383-1757757600-1757764800@www.stsulpicesurleze.fr
SUMMARY:Club de lecture
DESCRIPTION:Le club de lecture fait sa rentrée ! Retrouvez le club le samedi 13 septembre 2025 à partir de 10h00. Nos participants viendront présenter leurs derniers coups de cœur\, l’occasion de partager ensemble un moment animé et convivial !  \nPour vous joindre au club\, inscrivez vous dès maintenant auprès de la médiathèque\, par mail ou par téléphone au 05 61 97 59 14.
URL:https://www.stsulpicesurleze.fr/agenda/club-de-lecture-19/
LOCATION:Médiathèque\, Espl. André Maurette\, Saint-Sulpice-sur-Lèze\, 31410\, France
ATTACH;FMTTYPE=image/jpeg:https://www.stsulpicesurleze.fr/wp-content/uploads/2025/07/MED-Affiche-web-Club-de-lecture-MAJ-scaled.jpg
ORGANIZER;CN="M%C3%A9diath%C3%A8que de Saint-Sulpice-sur-L%C3%A8ze":MAILTO:mediatheque@stsulpicesurleze.fr
END:VEVENT
BEGIN:VEVENT
DTSTART;TZID=Europe/Paris:20250919T163000
DTEND;TZID=Europe/Paris:20250919T180000
DTSTAMP:20260420T121805
CREATED:20250724T135553Z
LAST-MODIFIED:20250724T135553Z
UID:12386-1758299400-1758304800@www.stsulpicesurleze.fr
SUMMARY:Venez jouer à la médiathèque !
DESCRIPTION:Vendredi 19 septembre de 16h30 à 18h00\, retrouvez Mathieu de l’association Homo Ludens 31 ! Il animera une séance de jeux de société dans la joie et la bonne humeur.  \nAnimation gratuite et sans réservation\, de 6 à 106 ans !
URL:https://www.stsulpicesurleze.fr/agenda/venez-jouer-a-la-mediatheque-22/
LOCATION:Médiathèque\, Espl. André Maurette\, Saint-Sulpice-sur-Lèze\, 31410\, France
ATTACH;FMTTYPE=image/jpeg:https://www.stsulpicesurleze.fr/wp-content/uploads/2025/07/MED-Affiche-web-Jeux-de-societe-2025-09-19-scaled.jpg
ORGANIZER;CN="M%C3%A9diath%C3%A8que de Saint-Sulpice-sur-L%C3%A8ze":MAILTO:mediatheque@stsulpicesurleze.fr
END:VEVENT
BEGIN:VEVENT
DTSTART;TZID=Europe/Paris:20250920T100000
DTEND;TZID=Europe/Paris:20250921T180000
DTSTAMP:20260420T121805
CREATED:20250903T092742Z
LAST-MODIFIED:20250903T092742Z
UID:12530-1758362400-1758477600@www.stsulpicesurleze.fr
SUMMARY:Journées Européennes du Patrimoine
DESCRIPTION:Visite de l’Hôtel Boutaud\nDécouvrez les trésors de l’Hôtel Boutaud et émerveillez vous devant son salon aux murs ornés d’une scène pittoresque du XIXᵉ siècle.\nGratuit & sans réservation\nSamedi 20.09 & dimanche 21.09 | 10h00 à 12h00 et 14h00 à 18h00 \n  \nVisite du moulin de Pesquiès\nDécouvrez l’histoire du moulin de Pesquiès et profitez de sa vue imprenable sur la commune et les Pyrénées\, au choix en visite libre ou visite guidée.\nGratuit & sans réservation\nVisite libre\nSamedi 20.09 | 10h00 à 18h00\nVisite guidée à la demande\nDimanche 21.09 | de 10h à 18h \n  \nVisites guidées de l’église de Saint-Sulpice-sur-Lèze\nPartez à la découverte de l’église de Saint-Sulpice-sur-Lèze à travers des visites guidées qui en dévoilent l’histoire\, l’architecture et les trésors patrimoniaux.\nGratuit & sans réservation\nSamedi 20.09 & dimanche 21.09 | 10h00 et 15h00 \n  \nCircuit jeu de piste et quiz à Saint-Sulpice-sur-Lèze\nPartez à la découverte de la bastide de Saint-Sulpice-sur-Lèze au choix\, à travers un jeu de piste ou grâce à un quiz\nLes documents sont à retirer à l’église. Les récompenses seront remises le dimanche à 17h30.\nGratuit & sans réservation\nSamedi 20.09 & dimanche 21.09 | 10h00 et 18h00 \n 
URL:https://www.stsulpicesurleze.fr/agenda/journees-europeennes-du-patrimoine/
LOCATION:Toute la commune
ATTACH;FMTTYPE=image/jpeg:https://www.stsulpicesurleze.fr/wp-content/uploads/2025/09/MSL-2025-09-20-Affiche-web-JEP-scaled.jpg
END:VEVENT
BEGIN:VEVENT
DTSTART;TZID=Europe/Paris:20250926T100000
DTEND;TZID=Europe/Paris:20250926T104500
DTSTAMP:20260420T121805
CREATED:20250827T094759Z
LAST-MODIFIED:20250827T094759Z
UID:12516-1758880800-1758883500@www.stsulpicesurleze.fr
SUMMARY:Animation petite enfance - Atelier de l'Hibouquine
DESCRIPTION:Venez découvrir des lectures animées pour les tout-petits autour du tapis de lecture “La ferme” en compagnie de l’animatrice Annabel de l’atelier l’Hibouquine. Installés confortablement autour d’un tapis de lecture intégralement conçu et fabriqué par ses soins\, l’enfant et l’adulte partagent un moment privilégié. Avec des comptines\, jeux de doigts\, musique\, poésie\, elle donne vie à ce petit univers fait de merveilles et de possibles qui transportent petits et grands. \n\nVendredi 26 septembre 2025\n10h00 : durée 45 min\nde 0 à 3 ans\nnombre de places limité\ngratuit – réservation obligatoire au 05 61 97 59 14 ou par mail à mediatheque@stsulpicesurleze.fr
URL:https://www.stsulpicesurleze.fr/agenda/animation-petite-enfance-atelier-de-lhibouquine/
LOCATION:Médiathèque\, Espl. André Maurette\, Saint-Sulpice-sur-Lèze\, 31410\, France
ATTACH;FMTTYPE=image/jpeg:https://www.stsulpicesurleze.fr/wp-content/uploads/2025/08/MED-Affiche-web-Atelier-de-lhibouquine-2025-09-26-scaled.jpg
ORGANIZER;CN="M%C3%A9diath%C3%A8que de Saint-Sulpice-sur-L%C3%A8ze":MAILTO:mediatheque@stsulpicesurleze.fr
END:VEVENT
END:VCALENDAR