BEGIN:VCALENDAR
VERSION:2.0
PRODID:-//St Sulpice-sur-Lèze - ECPv6.15.18//NONSGML v1.0//EN
CALSCALE:GREGORIAN
METHOD:PUBLISH
X-ORIGINAL-URL:https://www.stsulpicesurleze.fr
X-WR-CALDESC:Évènements pour St Sulpice-sur-Lèze
REFRESH-INTERVAL;VALUE=DURATION:PT1H
X-Robots-Tag:noindex
X-PUBLISHED-TTL:PT1H
BEGIN:VTIMEZONE
TZID:Europe/Paris
BEGIN:DAYLIGHT
TZOFFSETFROM:+0100
TZOFFSETTO:+0200
TZNAME:CEST
DTSTART:20240331T010000
END:DAYLIGHT
BEGIN:STANDARD
TZOFFSETFROM:+0200
TZOFFSETTO:+0100
TZNAME:CET
DTSTART:20241027T010000
END:STANDARD
BEGIN:DAYLIGHT
TZOFFSETFROM:+0100
TZOFFSETTO:+0200
TZNAME:CEST
DTSTART:20250330T010000
END:DAYLIGHT
BEGIN:STANDARD
TZOFFSETFROM:+0200
TZOFFSETTO:+0100
TZNAME:CET
DTSTART:20251026T010000
END:STANDARD
BEGIN:DAYLIGHT
TZOFFSETFROM:+0100
TZOFFSETTO:+0200
TZNAME:CEST
DTSTART:20260329T010000
END:DAYLIGHT
BEGIN:STANDARD
TZOFFSETFROM:+0200
TZOFFSETTO:+0100
TZNAME:CET
DTSTART:20261025T010000
END:STANDARD
END:VTIMEZONE
BEGIN:VEVENT
DTSTART;TZID=Europe/Paris:20251101T080000
DTEND;TZID=Europe/Paris:20251101T200000
DTSTAMP:20260422T125642
CREATED:20250903T134332Z
LAST-MODIFIED:20250903T134524Z
UID:12556-1761984000-1762027200@www.stsulpicesurleze.fr
SUMMARY:La Backyard d'Akuma
DESCRIPTION:« 1ère ÉDITION de la BackYard Akuma – le 1er novembre 2025 ! \nUne première… et pas des moindres !\n\n\n Saint-Sulpice-sur-Lèze (31)\n Samedi 1er novembre 2025\n Départ à 8h – dernier tour possible à 19h (fin à 20h)\n 12 heures de défi – 12 chances de te dépasser !\n\n\n Le principe ?\n Un parcours de 6\,2 km à boucler chaque heure.\n Tu pars à 8h\, puis à 9h\, 10h… jusqu’à 19h.\n Tu abandonnes ou tu ne repars pas à l’heure ? C’est terminé.\n Le/la plus endurant(e) jusqu’à la fin est sacré(e) vainqueur(se) \n\n\n Accessible à toutes et tous dès 18 ans – que tu sois coureur du dimanche\, trailer confirmé ou juste curieux de vivre un défi original !\n Pas de chrono\, pas de classement… juste toi\, ton mental\, et ton envie d’aller au bout.\n\n\n Ambiance assurée au village départ : ravito\, bonne humeur\, et l’énergie 100% Akuma ! \n\n\n 30€ l’inscription\n Inscriptions ouvertes dès maintenant sur ChronoStart »
URL:https://www.stsulpicesurleze.fr/agenda/la-backyard-dakuma/
LOCATION:Toute la commune
ATTACH;FMTTYPE=image/jpeg:https://www.stsulpicesurleze.fr/wp-content/uploads/2025/09/Affiche-Akuma-Backyard-2025-11-01-scaled.jpg
END:VEVENT
BEGIN:VEVENT
DTSTART;TZID=Europe/Paris:20251108T100000
DTEND;TZID=Europe/Paris:20251108T123000
DTSTAMP:20260422T125642
CREATED:20250903T104218Z
LAST-MODIFIED:20250903T104218Z
UID:12541-1762596000-1762605000@www.stsulpicesurleze.fr
SUMMARY:Club de lecture
DESCRIPTION:Le club de lecture fait sa rentrée ! Retrouvez le club le samedi 08 novembre 2025 à partir de 10h00. Nos participants viendront présenter leurs derniers coups de cœur\, l’occasion de partager ensemble un moment animé et convivial ! \nPour vous joindre au club\, inscrivez-vous dès maintenant auprès de la médiathèque\, par mail ou par téléphone au 05 61 97 59 14.
URL:https://www.stsulpicesurleze.fr/agenda/club-de-lecture-21/
LOCATION:Médiathèque\, Espl. André Maurette\, Saint-Sulpice-sur-Lèze\, 31410\, France
ATTACH;FMTTYPE=image/jpeg:https://www.stsulpicesurleze.fr/wp-content/uploads/2025/07/MED-Affiche-web-Club-de-lecture-MAJ-scaled.jpg
ORGANIZER;CN="M%C3%A9diath%C3%A8que de Saint-Sulpice-sur-L%C3%A8ze":MAILTO:mediatheque@stsulpicesurleze.fr
END:VEVENT
BEGIN:VEVENT
DTSTART;TZID=Europe/Paris:20251114T163000
DTEND;TZID=Europe/Paris:20251114T180000
DTSTAMP:20260422T125642
CREATED:20250903T104429Z
LAST-MODIFIED:20250903T104429Z
UID:12543-1763137800-1763143200@www.stsulpicesurleze.fr
SUMMARY:Venez jouer à la médiathèque !
DESCRIPTION:Vendredi 14 novembre de 16h30 à 18h00\, retrouvez Mathieu de l’association Homo Ludens 31 ! Il animera une séance de jeux de société dans la joie et la bonne humeur.  \nAnimation gratuite et sans réservation\, de 6 à 106 ans !
URL:https://www.stsulpicesurleze.fr/agenda/venez-jouer-a-la-mediatheque-24/
LOCATION:Médiathèque\, Espl. André Maurette\, Saint-Sulpice-sur-Lèze\, 31410\, France
ATTACH;FMTTYPE=image/jpeg:https://www.stsulpicesurleze.fr/wp-content/uploads/2025/09/MED-Affiche-web-Jeux-de-societe-2025-11-14-scaled.jpg
ORGANIZER;CN="M%C3%A9diath%C3%A8que de Saint-Sulpice-sur-L%C3%A8ze":MAILTO:mediatheque@stsulpicesurleze.fr
END:VEVENT
BEGIN:VEVENT
DTSTART;TZID=Europe/Paris:20251119T103000
DTEND;TZID=Europe/Paris:20251119T153000
DTSTAMP:20260422T125642
CREATED:20250903T104033Z
LAST-MODIFIED:20250904T083609Z
UID:12538-1763548200-1763566200@www.stsulpicesurleze.fr
SUMMARY:Ateliers numériques
DESCRIPTION:Mercredi 19 novembre\, votre médiathèque propose deux ateliers de sensibilisation de l’usage des outils numériques – à 10h30 un atelier pour un public adulte\, à 14h00 un atelier pour les enfants à partir de 8 ans. Les ateliers sont animés par les conseillères numériques Delphine et Déborah de la Médiathèque Départementale. Réservez vite – nombre de places limité. \n\n10h30 -12h00 : NAVIGUER EN TOUTE SÉCURITÉ SUR INTERNET / public adulte\nAvez-vous déjà rencontré des problèmes lors de l’utilisation d’Internet ou est-ce que vous craignez une usurpation de vos coordonnées personnelles ? Cet atelier peut vous intéresser !\nPendant 1h30\, Delphine et Déborah vont vous sensibiliser à plusieurs notions : les cookies\, le piratage informatique\, spams\, usurpation d’identité\, hameçonnage. La protection de vos données personnelles : identifiants et mots de passe sécurisés\, maîtrise de votre identité numérique\, suppression des données personnelles\, paramétrage de votre navigation sur Internet.\nPrérequis : maîtriser le clavier et la souris\n14h00-15h30 : MON PREMIER SMARTPHONE / à partir de 8 ans\nVotre enfant a eu un smartphone mais vous vous inquiétez pour son usage ? Vous souhaitez que votre enfant acquière les bases d’utilisation ? Cet atelier peut vous intéresser !\nPendant 1h30\, Delphine et Déborah vont sensibiliser votre enfant sous forme de quiz sur les réseaux sociaux\, le temps d’écran\, les paramétrages\, la protection de ses données personnelles\, l’identité numérique et le signalement.\n\nGratuit sur réservation au 05 61 97 59 14 ou par mail : mediatheque@stsulpicesurleze.fr
URL:https://www.stsulpicesurleze.fr/agenda/ateliers-numeriques/
LOCATION:Médiathèque\, Espl. André Maurette\, Saint-Sulpice-sur-Lèze\, 31410\, France
ATTACH;FMTTYPE=image/jpeg:https://www.stsulpicesurleze.fr/wp-content/uploads/2025/09/MED-Affiche-web-Ateliers-numeriques-01-2025-11-19-scaled.jpg
ORGANIZER;CN="M%C3%A9diath%C3%A8que de Saint-Sulpice-sur-L%C3%A8ze":MAILTO:mediatheque@stsulpicesurleze.fr
END:VEVENT
BEGIN:VEVENT
DTSTART;TZID=Europe/Paris:20251126T150000
DTEND;TZID=Europe/Paris:20251126T173000
DTSTAMP:20260422T125642
CREATED:20250903T112016Z
LAST-MODIFIED:20250903T112016Z
UID:12546-1764169200-1764178200@www.stsulpicesurleze.fr
SUMMARY:Rétrogaming à la médiathèque !
DESCRIPTION:Gros après-midi jeux vidéo en perspective ! Le mercredi 26 novembre 2025\, venez défier les autres joueurs sur des anciennes consoles des années 80\, 90 et 2000 : la Super Nintendo avec Street Fighter 2\, la Sega Megadrive avec Sonic\, la Gamecube avec Super Smash Bros. Melee ou encore la Nintendo 64 avec Mario Kart 64. Sans réservation de 15h00 à 17h30 en libre accès. \nÉvènement organisé avec Léo Lagrange et l’Espace Ados de Saint-Sulpice-sur-Lèze.
URL:https://www.stsulpicesurleze.fr/agenda/retrogaming-a-la-mediatheque-2/
LOCATION:Médiathèque\, Espl. André Maurette\, Saint-Sulpice-sur-Lèze\, 31410\, France
ATTACH;FMTTYPE=image/jpeg:https://www.stsulpicesurleze.fr/wp-content/uploads/2025/09/MED-Affiche-web-Jeux-videos-retrogaming-2025-11-26-scaled.jpg
ORGANIZER;CN="M%C3%A9diath%C3%A8que de Saint-Sulpice-sur-L%C3%A8ze":MAILTO:mediatheque@stsulpicesurleze.fr
END:VEVENT
BEGIN:VEVENT
DTSTART;TZID=Europe/Paris:20251129T100000
DTEND;TZID=Europe/Paris:20251129T180000
DTSTAMP:20260422T125642
CREATED:20251106T143649Z
LAST-MODIFIED:20251106T143649Z
UID:12768-1764410400-1764439200@www.stsulpicesurleze.fr
SUMMARY:Vide ta chambre
DESCRIPTION:– Vide ta chambre de 10h00 à 18h00\n– 19h00 : Spectacle des enfants\n– Suivie d’une soirée dansante\n– Buvette & restauration sur place \nTous les bénéfices serviront à financer le voyage des enfants au Futuroscope. \nOrganisé par l’Accueil de Loisirs – Inscription obligatoire – 07 63 12 17 35 | accueil.loisirs@stsulpicesurleze.fr
URL:https://www.stsulpicesurleze.fr/agenda/vide-ta-chambre/
LOCATION:Salle des fêtes\, 1 impasse Saint Jean\, Saint-Sulpice-sur-Lèze\, 31410\, France
ATTACH;FMTTYPE=image/jpeg:https://www.stsulpicesurleze.fr/wp-content/uploads/2025/11/Affiche-Vide-ta-chambre-2025-11-29-scaled.jpg
END:VEVENT
END:VCALENDAR