BEGIN:VCALENDAR
VERSION:2.0
PRODID:-//St Sulpice-sur-Lèze - ECPv6.15.18//NONSGML v1.0//EN
CALSCALE:GREGORIAN
METHOD:PUBLISH
X-WR-CALNAME:St Sulpice-sur-Lèze
X-ORIGINAL-URL:https://www.stsulpicesurleze.fr
X-WR-CALDESC:Évènements pour St Sulpice-sur-Lèze
REFRESH-INTERVAL;VALUE=DURATION:PT1H
X-Robots-Tag:noindex
X-PUBLISHED-TTL:PT1H
BEGIN:VTIMEZONE
TZID:Europe/Paris
BEGIN:DAYLIGHT
TZOFFSETFROM:+0100
TZOFFSETTO:+0200
TZNAME:CEST
DTSTART:20250330T010000
END:DAYLIGHT
BEGIN:STANDARD
TZOFFSETFROM:+0200
TZOFFSETTO:+0100
TZNAME:CET
DTSTART:20251026T010000
END:STANDARD
BEGIN:DAYLIGHT
TZOFFSETFROM:+0100
TZOFFSETTO:+0200
TZNAME:CEST
DTSTART:20260329T010000
END:DAYLIGHT
BEGIN:STANDARD
TZOFFSETFROM:+0200
TZOFFSETTO:+0100
TZNAME:CET
DTSTART:20261025T010000
END:STANDARD
BEGIN:DAYLIGHT
TZOFFSETFROM:+0100
TZOFFSETTO:+0200
TZNAME:CEST
DTSTART:20270328T010000
END:DAYLIGHT
BEGIN:STANDARD
TZOFFSETFROM:+0200
TZOFFSETTO:+0100
TZNAME:CET
DTSTART:20271031T010000
END:STANDARD
END:VTIMEZONE
BEGIN:VEVENT
DTSTART;TZID=Europe/Paris:20260110T100000
DTEND;TZID=Europe/Paris:20260110T120000
DTSTAMP:20260424T133522
CREATED:20251229T150905Z
LAST-MODIFIED:20251229T150905Z
UID:12933-1768039200-1768046400@www.stsulpicesurleze.fr
SUMMARY:Club de lecture
DESCRIPTION:Le prochain club de lecture aura lieu le samedi 10 janvier 2026\, à partir de 10h00. Nos participants viendront présenter leurs derniers coups de cœur\, l’occasion de partager ensemble un moment animé et convivial ! Pour vous joindre au Club\, inscrivez vous dès maintenant auprès de la médiathèque\, par mail ou par téléphone au 05 61 97 59 14
URL:https://www.stsulpicesurleze.fr/agenda/club-de-lecture-23/
LOCATION:Médiathèque\, Espl. André Maurette\, Saint-Sulpice-sur-Lèze\, 31410\, France
ATTACH;FMTTYPE=image/jpeg:https://www.stsulpicesurleze.fr/wp-content/uploads/2025/07/MED-Affiche-web-Club-de-lecture-MAJ-scaled.jpg
ORGANIZER;CN="M%C3%A9diath%C3%A8que de Saint-Sulpice-sur-L%C3%A8ze":MAILTO:mediatheque@stsulpicesurleze.fr
END:VEVENT
BEGIN:VEVENT
DTSTART;TZID=Europe/Paris:20260116T163000
DTEND;TZID=Europe/Paris:20260116T180000
DTSTAMP:20260424T133522
CREATED:20251229T151257Z
LAST-MODIFIED:20251229T151257Z
UID:12938-1768581000-1768586400@www.stsulpicesurleze.fr
SUMMARY:Venez jouer à la médiathèque !
DESCRIPTION:Vendredi 16 janvier de 16h30 à 18h00\, retrouvez Mathieu de l’association Homo Ludens 31 ! Il animera la séance de jeux de société dans la joie et la bonne humeur. \nAnimation gratuite et sans réservation\, de 6 à 106 ans !
URL:https://www.stsulpicesurleze.fr/agenda/venez-jouer-a-la-mediatheque-26/
LOCATION:Médiathèque\, Espl. André Maurette\, Saint-Sulpice-sur-Lèze\, 31410\, France
ATTACH;FMTTYPE=image/jpeg:https://www.stsulpicesurleze.fr/wp-content/uploads/2025/12/MED-Affiche-web-Jeux-de-societe-2026-01-16-scaled.jpg
ORGANIZER;CN="M%C3%A9diath%C3%A8que de Saint-Sulpice-sur-L%C3%A8ze":MAILTO:mediatheque@stsulpicesurleze.fr
END:VEVENT
BEGIN:VEVENT
DTSTART;TZID=Europe/Paris:20260121T100000
DTEND;TZID=Europe/Paris:20260304T180000
DTSTAMP:20260424T133522
CREATED:20260121T111756Z
LAST-MODIFIED:20260121T111756Z
UID:13020-1768989600-1772647200@www.stsulpicesurleze.fr
SUMMARY:Exposition "Métiers d'antan"
DESCRIPTION:La médiathèque vous invite à découvrir l’exposition « Métiers d’antan ». \nElle vous propose un voyage dans le passé grâce à une collection d’objets et de photographies anciennes des communes de Saint-Sulpice-sur-Lèze et de Lézat-sur-Lèze. \nC’est l’occasion idéale de raviver la mémoire locale et de partager des souvenirs avec votre famille ou vos amis. \nCette initiative s’inscrit dans le cadre du projet pédagogique de l’école élémentaire autour des métiers. Monsieur Bardy sera présent lors de l’accueil des classes pour présenter l’exposition aux élèves et répondre à leurs questions. \nNous adressons nos vifs remerciements à Messieurs Bardy et Gaubert\, collectionneurs et passionnés du patrimoine local\, pour leur investissement et pour avoir rendu cette exposition possible. \nL’exposition est accessible au public aux horaires d’ouverture de la médiathèque jusqu’au mercredi 04 mars 2026 inclus.
URL:https://www.stsulpicesurleze.fr/agenda/exposition-metiers-dantan/
LOCATION:Médiathèque\, Espl. André Maurette\, Saint-Sulpice-sur-Lèze\, 31410\, France
ATTACH;FMTTYPE=image/jpeg:https://www.stsulpicesurleze.fr/wp-content/uploads/2026/01/MED-Affiche-web-Exposition-metiers-dantan-2026-01-19-01-scaled.jpg
ORGANIZER;CN="M%C3%A9diath%C3%A8que de Saint-Sulpice-sur-L%C3%A8ze":MAILTO:mediatheque@stsulpicesurleze.fr
END:VEVENT
BEGIN:VEVENT
DTSTART;TZID=Europe/Paris:20260123T200000
DTEND;TZID=Europe/Paris:20260123T220000
DTSTAMP:20260424T133522
CREATED:20251229T151113Z
LAST-MODIFIED:20251229T151113Z
UID:12935-1769198400-1769205600@www.stsulpicesurleze.fr
SUMMARY:Nuit de la Lecture - Public adulte
DESCRIPTION:Vendredi 23 janvier 2026 à 20h30 – Accueil dès 20h00. Entrée libre\, sans réservation. \nÀ l’occasion de la Nuit de la Lecture\, à partir de 20h00\, nous vous invitons à une soirée placée sous le signe du voyage entre campagnes et villes. \nÀ partir de 20h30\, les lectures à voix haute vous entraîneront dans une parenthèse littéraire faisant dialoguer textes courts\, récits\, poèmes et extraits qui exploreront les contrastes\, les échos et parfois les passerelles entre ces deux mondes. Un moment pour savourer les mots\, écouter les voix\, et laisser la littérature vous entrainer dans ce voyage. \nLa soirée se prolongera par un échange convivial autour d’une galette. \nL’entrée est gratuite et sans réservation : Venez nombreux ! Animation proposée par les membres du club de lecture.
URL:https://www.stsulpicesurleze.fr/agenda/nuit-de-la-lecture-public-adulte/
LOCATION:Médiathèque\, Espl. André Maurette\, Saint-Sulpice-sur-Lèze\, 31410\, France
ATTACH;FMTTYPE=image/jpeg:https://www.stsulpicesurleze.fr/wp-content/uploads/2025/12/MED-Affiche-web-Nuits-de-la-lecture-2026-01-23-scaled.jpg
ORGANIZER;CN="M%C3%A9diath%C3%A8que de Saint-Sulpice-sur-L%C3%A8ze":MAILTO:mediatheque@stsulpicesurleze.fr
END:VEVENT
BEGIN:VEVENT
DTSTART;TZID=Europe/Paris:20260128T103000
DTEND;TZID=Europe/Paris:20260218T120000
DTSTAMP:20260424T133522
CREATED:20260115T092052Z
LAST-MODIFIED:20260115T092052Z
UID:13007-1769596200-1771416000@www.stsulpicesurleze.fr
SUMMARY:Des ateliers numériques
DESCRIPTION:Envie de mieux maîtriser votre ordinateur\, tablette ou smartphone ? Votre médiathèque propose quatre ateliers de sensibilisation de l’usage des outils numériques animés par une conseillère numérique de la Médiathèque Départementale de la Haute-Garonne dans une ambiance conviviale et participative. \nGratuit sur réservation au 05 61 97 59 14 ou par mail : mediatheque@stsulpicesurleze.fr \nLe premier l’atelier aura lieu le mercredi 28/01 : L’ordinateur – se repérer sur le bureau et organiser ses dossiers. \nComprendre le fonctionnement de l’explorateur de fichiers. Les différents éléments du bureau : corbeille\, fichiers\, dossiers\, navigateurs… Créer et renommer un dossier\, ranger et classer ses fichiers\, enregistrer et supprimer un fichier. Conditions d’accès : public adulte\, débutants\, maîtriser le clavier et la souris. Nous vous invitons à venir à la médiathèque signer la charte Internet et obtenir les codes d’accès WIFI quelques jours avant les ateliers. Le jour même\, vous pouvez également arriver 15 minutes avant le début de l’atelier afin de vous assurer que votre matériel soit bien connecté. \nDurée : 1h30 \nVoici la liste des ateliers proposés :\n1) Mercredi 28/01 : L’ordinateur – se repérer sur le bureau et organiser ses dossiers – durée 1h30\n2) Mercredi 04/02 : Les fonctionnalités de la tablette et du smartphone – durée 1h30\n3) Mercredi 11/02 : Créer son adresse mail – durée 1h30\n4) Mercredi 18/02 : Créer son album photo – durée 2h00 \nPour plus de détails\, contactez votre médiathèque ou consulter notre site en ligne : https://mediatheque.stsulpicesurleze.fr/ \nAu plaisir de vous retrouver !
URL:https://www.stsulpicesurleze.fr/agenda/des-ateliers-numeriques/
LOCATION:Médiathèque\, Espl. André Maurette\, Saint-Sulpice-sur-Lèze\, 31410\, France
ATTACH;FMTTYPE=image/jpeg:https://www.stsulpicesurleze.fr/wp-content/uploads/2026/01/MED-Affiche-web-Ateliers-numeriques-2026-01-26-generique-scaled.jpg
ORGANIZER;CN="M%C3%A9diath%C3%A8que de Saint-Sulpice-sur-L%C3%A8ze":MAILTO:mediatheque@stsulpicesurleze.fr
END:VEVENT
END:VCALENDAR